BEGIN:VCALENDAR
VERSION:2.0
PRODID:-//spokeart.org - ECPv6.15.20//NONSGML v1.0//EN
CALSCALE:GREGORIAN
METHOD:PUBLISH
X-ORIGINAL-URL:https://spokeart.org
X-WR-CALDESC:Events for spokeart.org
REFRESH-INTERVAL;VALUE=DURATION:PT1H
X-Robots-Tag:noindex
X-PUBLISHED-TTL:PT1H
BEGIN:VTIMEZONE
TZID:UTC
BEGIN:STANDARD
TZOFFSETFROM:+0000
TZOFFSETTO:+0000
TZNAME:UTC
DTSTART:20220101T000000
END:STANDARD
END:VTIMEZONE
BEGIN:VEVENT
DTSTART;TZID=UTC:20230410T080000
DTEND;TZID=UTC:20230426T170000
DTSTAMP:20260423T203040
CREATED:20220812T224209Z
LAST-MODIFIED:20220812T234606Z
UID:1529-1681113600-1682528400@spokeart.org
SUMMARY:Artist Retreat to TUSCANY
DESCRIPTION:You are invited to step out of your day-to-day life and to be part of this artistic retreat. This retreat asks you to recognize that the role of the artist is meaningful enough to nurture. This retreat is a practice of bringing the creative into our daily lives\, permitting your life to revolve around your creative self.
URL:https://spokeart.org/event/artist-retreat-to-tuscany/
CATEGORIES:Artist Retreat
ATTACH;FMTTYPE=image/jpeg:https://spokeart.org/wp-content/uploads/2022/07/Italy_Retreat_image2022-1.jpg
ORGANIZER;CN="SPOKE / Medicine Wheel Productions":MAILTO:info@mwproductions.org
END:VEVENT
END:VCALENDAR