BEGIN:VCALENDAR
VERSION:2.0
PRODID:-//spokeart.org - ECPv6.15.20//NONSGML v1.0//EN
CALSCALE:GREGORIAN
METHOD:PUBLISH
X-ORIGINAL-URL:https://spokeart.org
X-WR-CALDESC:Events for spokeart.org
REFRESH-INTERVAL;VALUE=DURATION:PT1H
X-Robots-Tag:noindex
X-PUBLISHED-TTL:PT1H
BEGIN:VTIMEZONE
TZID:America/New_York
BEGIN:DAYLIGHT
TZOFFSETFROM:-0500
TZOFFSETTO:-0400
TZNAME:EDT
DTSTART:20250309T070000
END:DAYLIGHT
BEGIN:STANDARD
TZOFFSETFROM:-0400
TZOFFSETTO:-0500
TZNAME:EST
DTSTART:20251102T060000
END:STANDARD
BEGIN:DAYLIGHT
TZOFFSETFROM:-0500
TZOFFSETTO:-0400
TZNAME:EDT
DTSTART:20260308T070000
END:DAYLIGHT
BEGIN:STANDARD
TZOFFSETFROM:-0400
TZOFFSETTO:-0500
TZNAME:EST
DTSTART:20261101T060000
END:STANDARD
BEGIN:DAYLIGHT
TZOFFSETFROM:-0500
TZOFFSETTO:-0400
TZNAME:EDT
DTSTART:20270314T070000
END:DAYLIGHT
BEGIN:STANDARD
TZOFFSETFROM:-0400
TZOFFSETTO:-0500
TZNAME:EST
DTSTART:20271107T060000
END:STANDARD
END:VTIMEZONE
BEGIN:VEVENT
DTSTART;VALUE=DATE:20260407
DTEND;VALUE=DATE:20260424
DTSTAMP:20260423T141914
CREATED:20240130T161431Z
LAST-MODIFIED:20250801T194824Z
UID:2824-1775520000-1776988799@spokeart.org
SUMMARY:Artists’ Retreats at SPOKE: ITALY
DESCRIPTION:Our 24nd Italian retreat will be held at a monastery in San Gimignano\, a medieval Tuscan village filled with towers and surrounded by rolling hills. The Benedictine Sisters who offer their hospitality have become dear friends during our previous retreats. \nVisit our Programs page for Artists Retreats to learn more.
URL:https://spokeart.org/event/artists-retreats-at-spoke-italy/
LOCATION:SPOKE\, 844 Summer Street\, Boston\, United States
ATTACH;FMTTYPE=image/jpeg:https://spokeart.org/wp-content/uploads/2024/01/Italy-2025-323x212-1.jpg
END:VEVENT
END:VCALENDAR